BEGIN:VCALENDAR
VERSION:2.0
PRODID:-//alife2.com//NONSGML kigkonsult.se iCalcreator 2.30.10//
CALSCALE:GREGORIAN
METHOD:PUBLISH
UID:84b2b815-9751-47f5-8edd-07408722f469
X-WR-CALDESC:The Board of Directors and Team at WELS Lutherans for Life inv
 ite you to a joyful Celebration Picnic on Sunday\, May 31. This casual gat
 hering is our chance to bring together the friends and partners who have h
 elped sustain this ministry for so many years—and to thank and celebrate P
 eter Georgson as he begins his well-earned retirement.
X-WR-RELCALID:4e749b0e7a764ea58230f1a8e896b830
X-WR-TIMEZONE:America/Chicago
BEGIN:VTIMEZONE
TZID:America/Chicago
BEGIN:STANDARD
TZNAME:CST
DTSTART:20251102T020000
TZOFFSETFROM:-0500
TZOFFSETTO:-0600
RDATE:20261101T020000
RDATE:20271107T020000
END:STANDARD
BEGIN:DAYLIGHT
TZNAME:CDT
DTSTART:20260308T020000
TZOFFSETFROM:-0600
TZOFFSETTO:-0500
RDATE:20270314T020000
END:DAYLIGHT
END:VTIMEZONE
BEGIN:VEVENT
UID:636198b3-ef94-4413-822a-195cfbedab03
DTSTAMP:20260421T003325Z
DESCRIPTION:The Board of Directors and Team at WELS Lutherans for Life invi
 te you to a joyful Celebration Picnic on Sunday\, May 31. This casual gath
 ering is our chance to bring together the friends and partners who have he
 lped sustain this ministry for so many years—and to thank and celebrate Pe
 ter Georgson as he begins his well-earned retirement.
DTSTART;TZID=America/Chicago:20260531T013000
DTEND;TZID=America/Chicago:20260531T040000
LOCATION:St. John's Lutheran Church\, 6802 W Forest Home Ave\, Milwaukee\, 
 WI 53220 US
SUMMARY:Peter's Retirement BBQ Party
END:VEVENT
END:VCALENDAR
